BEGIN:VCALENDAR
VERSION:2.0
PRODID:Quicksite
NAME:Calendrier
X-WR-CALNAME:Calendrier
REFRESH-INTERVAL;VALUE=DURATION:PT240M
X-PUBLISHED-TTL:PT240M
BEGIN:VEVENT
UID:69e5985fa843f
SUMMARY:Exposition \"Hubris botanique\" de Sève Favre
DESCRIPTION:Association pour la Conservation du Château d'Oron (ACCO)
LOCATION:Oron-le-Châtel - Château
DTSTART:20260502
DTEND:20260928
DTSTAMP:20260311T114951Z
END:VEVENT
END:VCALENDAR